BEGIN:VCALENDAR
PRODID:-//Proteus CMS//iCal4j 1.0//EN
VERSION:2.0
CALSCALE:GREGORIAN
BEGIN:VEVENT
DTSTAMP:20260423T072427Z
DTSTART:20260430T210000Z
DTEND:20260430T213000Z
SUMMARY:AAA Brown & Family Insurance Ribbon Cutting
DESCRIPTION:Join us for a ribbon cutting at AAA Brown & Family Insurance! A
 AA Brown & Family Insurance is an insurance agency committed to providing 
 best in class service coupled with industry leading home\, auto\, & life i
 nsurance products\, in addition to its roadside service.
LOCATION:AAA Brown & Family Insurance | 209 S. 9th Street
UID:Event-13508310@www.lcoc.com
END:VEVENT
END:VCALENDAR
