BEGIN:VCALENDAR
PRODID:-//Proteus CMS//iCal4j 1.0//EN
VERSION:2.0
CALSCALE:GREGORIAN
BEGIN:VEVENT
DTSTAMP:20260420T053208Z
DTSTART:20260501T160000Z
DTEND:20260501T163000Z
SUMMARY:HoneyBee Bridal Ribbon Cutting
DESCRIPTION:Join us for a ribbon cutting at HoneyBee Bridal! They are a bri
 dal store and pride themselves on being the most inclusive bridal store in
  Lincoln.
LOCATION:HoneyBee Bridal | 8320 Northwoods Drive\, Suite 600
UID:Event-13508301@www.lcoc.com
END:VEVENT
END:VCALENDAR
