BEGIN:VCALENDAR
PRODID:-//Proteus CMS//iCal4j 1.0//EN
VERSION:2.0
CALSCALE:GREGORIAN
BEGIN:VEVENT
DTSTAMP:20260422T085219Z
DTSTART:20260430T190000Z
DTEND:20260430T193000Z
SUMMARY:Level Ten Creative Marketing Firm Ribbon Cutting
DESCRIPTION:Join us for a ribbon cutting at Level Ten Creative Marketing Fi
 rm! Level Ten Creative Marketing Firm focuses on helping businesses grow t
 hrough a mix of strategy\, branding\, and content. Core services include: 
 Social media management (content creation\, posting\, video\, photography)
  Brand development (logos\, messaging\, overall look/feel) Website design 
 & optimization Digital advertising (Meta\, Google\, campaigns) Print + mar
 keting materials.
LOCATION:Level Ten Creative Marketing Firm | 4702 Prescott Avenue\, Suite B
 
UID:Event-13508297@www.lcoc.com
END:VEVENT
END:VCALENDAR
