BEGIN:VCALENDAR
PRODID:-//Proteus CMS//iCal4j 1.0//EN
VERSION:2.0
CALSCALE:GREGORIAN
BEGIN:VEVENT
DTSTAMP:20260420T052718Z
DTSTART:20260501T183000Z
DTEND:20260501T190000Z
SUMMARY:LP Fitness Transformation Center South Ribbon Cutting
DESCRIPTION:Join us for a ribbon cutting at LP Fitness Transformation Cente
 r and their new south Lincoln location! As Lincoln's only transformation c
 enter\, LP Fitness focuses on fitness through customized nutrition\, daily
  accountability and more.
LOCATION:LP Fitness South | 8120 Cornelius Avenue
UID:Event-13508282@www.lcoc.com
END:VEVENT
END:VCALENDAR
