BEGIN:VCALENDAR
PRODID:-//Proteus CMS//iCal4j 1.0//EN
VERSION:2.0
CALSCALE:GREGORIAN
BEGIN:VEVENT
DTSTAMP:20260420T052740Z
DTSTART:20260429T173000Z
DTEND:20260429T180000Z
SUMMARY:Savannah Pines Retirement Community Ribbon Cutting
DESCRIPTION:Join us for a ribbon cutting at Savannah Pines Retirement Commu
 nity as they celebrate 25 years in the Lincoln community! Founded by a Lin
 coln native\, Savannah Pines was the first community developed by our comp
 any and remains the foundation of a model that has since grown to 62 commu
 nities across 29 states\, with our home office still based in Lincoln. Thi
 s 25th anniversary celebrates a quarter-century of service\, relationships
 \, and a commitment to helping seniors live well and independently.
LOCATION:Savannah Pines Retirement Community | 3900 Pine Lake Road
UID:Event-13508252@www.lcoc.com
END:VEVENT
END:VCALENDAR
