BEGIN:VCALENDAR
PRODID:-//Proteus CMS//iCal4j 1.0//EN
VERSION:2.0
CALSCALE:GREGORIAN
BEGIN:VEVENT
DTSTAMP:20260424T163513Z
DTSTART:20241002T130000Z
DTEND:20241002T140000Z
SUMMARY:Chamber Coffee
DESCRIPTION:Join us for Chamber Coffee! Scheduled the first Wednesday of ea
 ch month\, the Lincoln Chamber invites elected officials from the city\, c
 ounty government and Lincoln Public Schools to discuss local issues. This 
 is your chance to ask the questions that affect your business and the comm
 unity at large. There is no cost to attend this event\, which is open to t
 he entire membership.
LOCATION:Lincoln Chamber | 1128 Lincoln Mall\, Suite 100
UID:Event-13507695@www.lcoc.com
END:VEVENT
END:VCALENDAR
